BEGIN:VCALENDAR
VERSION:2.0
PRODID:-//Michaelhouse - ECPv6.15.20//NONSGML v1.0//EN
CALSCALE:GREGORIAN
METHOD:PUBLISH
X-WR-CALNAME:Michaelhouse
X-ORIGINAL-URL:https://www.michaelhouse.org
X-WR-CALDESC:Events for Michaelhouse
REFRESH-INTERVAL;VALUE=DURATION:PT1H
X-Robots-Tag:noindex
X-PUBLISHED-TTL:PT1H
BEGIN:VTIMEZONE
TZID:Africa/Johannesburg
BEGIN:STANDARD
TZOFFSETFROM:+0200
TZOFFSETTO:+0200
TZNAME:SAST
DTSTART:20250101T000000
END:STANDARD
END:VTIMEZONE
BEGIN:VEVENT
DTSTART;VALUE=DATE:20260420
DTEND;VALUE=DATE:20260421
DTSTAMP:20260420T124135
CREATED:20250512T092535Z
LAST-MODIFIED:20250512T093517Z
UID:13088-1776643200-1776729599@www.michaelhouse.org
SUMMARY:Start of Term 2
DESCRIPTION:Start of Term 2
URL:https://www.michaelhouse.org/calendarevent/start-of-term-2/
CATEGORIES:General
END:VEVENT
END:VCALENDAR